BEGIN:VCALENDAR
VERSION:2.0
PRODID:-//IEBV - ECPv6.15.16//NONSGML v1.0//EN
CALSCALE:GREGORIAN
METHOD:PUBLISH
X-WR-CALNAME:IEBV
X-ORIGINAL-URL:https://iebv.com.br
X-WR-CALDESC:Eventos para IEBV
REFRESH-INTERVAL;VALUE=DURATION:PT1H
X-Robots-Tag:noindex
X-PUBLISHED-TTL:PT1H
BEGIN:VTIMEZONE
TZID:America/Sao_Paulo
BEGIN:STANDARD
TZOFFSETFROM:-0300
TZOFFSETTO:-0300
TZNAME:-03
DTSTART:20230101T000000
END:STANDARD
END:VTIMEZONE
BEGIN:VEVENT
DTSTART;TZID=America/Sao_Paulo:20260410T080000
DTEND;TZID=America/Sao_Paulo:20260413T170000
DTSTAMP:20260420T213844
CREATED:20260210T105922Z
LAST-MODIFIED:20260210T110035Z
UID:4005-1775808000-1776099600@iebv.com.br
SUMMARY:Retiro RDA 2026 - "Além de mim mesmo"
DESCRIPTION:Retiro de Adolescentes 2026 — *“Além de Mim Mesmo”*\n\n\nVocê está pronto para viver algo que vai transformar sua forma de enxergar a vida\, sua fé e o propósito que Deus tem pra você? ??\n\nNeste retiro\, vamos sair do foco em “mim” e aprender o poder de viver para algo maior — para Deus\, para o próximo\, para o Reino! ??\n\n*Data: 10 a 13 de Abril 2026\n*Local: Sítio Rancho Alegre (Serra/ES)\n*Público: Adolescentes de 12 a 17 anos.\n*Inscrição: 1° lote 340\,00 até 31/12/25\n\n2° lote 360\,00 01/01/26 a 28/02/26\n3° lote 380\,00 01/03/26 a 31/03/26\n\n\n\nAs vagas são limitadas\, então garanta já a sua! CLIQUE AQUI PARA FAZER A SUA INSCRIÇÃO\n\nInscreva-se e venha descobrir o que existe além de você mesmo — um chamado\, um propósito e uma nova experiência com Deus!
URL:https://iebv.com.br/agenda/retiro-rda-2026-alem-de-mim-mesmo/
LOCATION:Espírito Santo
CATEGORIES:Eventos IEBV,Externo
ATTACH;FMTTYPE=image/jpeg:https://iebv.com.br/wp-content/uploads/2025/10/IMG-20251016-WA0051.jpg
END:VEVENT
BEGIN:VEVENT
DTSTART;TZID=America/Sao_Paulo:20260410T080000
DTEND;TZID=America/Sao_Paulo:20260411T170000
DTSTAMP:20260420T213844
CREATED:20260330T011148Z
LAST-MODIFIED:20260407T153149Z
UID:4047-1775808000-1775926800@iebv.com.br
SUMMARY:"CARRETA MISSIONÁRIA" (10 E 11 DE ABRIL DAS 9H ÀS 17H)
DESCRIPTION:ATENDIMENTO GRATUITO NOS DIAS 10 E 11 DE ABRIL (SEXTA E SÁBADO) DAS 9H ÀS 17H\nOFICINAS PARA CRIANÇAS\, ADOLESCENTES E ADULTOS!\nCLIQUE EM UM DOS LINKS  E FAÇA O SEU AGENDAMENTO PARA 10 DE ABRIL E 11 DE ABRIL (SEXTA E SÁBADO)\n\nPROGRAMAÇÃO 10 DE ABRIL!\n  \nATENDIMENTO JURÍDICO SEXTA-FEIRA DIA 10 DE ABRIL (CADA HORÁRIO TEM 10 VAGAS) – CLIQUE EM UM HORÁRIO ABAIXO PARA AGENDAR \nATENDIMENTO 9H;  ATENDIMENTO 10H; ATENDIMENTO 11H; ATENDIvMENTO 13H; ATENDIMENTO 14H; ATENDIMENTO 15H; ATENDIMENTO 16H; \n\nATENDIMENTO MÉDICO SEXTA-FEIRA DIA 10 DE ABRIL (CADA HORÁRIO TEM 6 VAGAS) – CLIQUE EM UM HORÁRIO ABAIXO PARA AGENDAR \nATENDIMENTO 9H;  ATENDIMENTO 10H; ATENDIMENTO 11H; ATENDIMENTO 13H; ATENDIMENTO 14H; ATENDIMENTO 15H; ATENDIMENTO 16H; \n\nATENDIMENTO ODONTOLÓGICO SEXTA-FEIRA DIA 10 DE ABRIL (CADA HORÁRIO TEM 4 VAGAS) – CLIQUE EM UM HORÁRIO PARA AGENDAR \nATENDIMENTO 9H; ATENDIMENTO 10H; ATENDIMENTO 11H; ATENDIMENTO 13H; ATENDIMENTO 14H; ATENDIMENTO 15H; ATENDIMENTO 16H; \n\nATENDIMENTO TERAPÊUTICO SEXTA-FEIRA DIA 10 DE ABRIL (CADA HORÁRIO TEM 2 VAGAS)  – CLIQUE EM UM HORÁRIO PARA AGENDAR \nATENDIMENTO 9H; ATENDIMENTO 10H; ATENDIMENTO 11H; ATENDIMENTO 13H; ATENDIMENTO 14H; ATENDIMENTO 15H; ATENDIMENTO 16H; \n\nATENDIMENTO CABELEIREIRO SEXTA-FEIRA DIA 10 DE ABRIL (CADA HORÁRIO TEM 5 VAGAS) – CLIQUE EM UM HORÁRIO PARA AGENDAR \nATENDIMENTO 9H; ATENDIMENTO 10H; ATENDIMENTO 11H; ATENDIMENTO 13H; ATENDIMENTO 14H; ATENDIMENTO 15H; ATENDIMENTO 16H; \n\nCLIQUE AQUI E FAÇA A SUA INSCRIÇÃO PARA A OFICINA DA ANSIEDADE 10/04 ÀS 15H – 30 VAGAS \nCLIQUE AQUI E FAÇA A SUA INSCRIÇÃO PARA O WORKSHOP: O PODER DA AUTO ESTIMA 10/04 ÀS 15H – 30 VAGAS \n\nPROGRAMAÇÃO 11 DE ABRIL!\nATENDIMENTO OFTALMOLOGICO SÁBADO DIA 11 DE ABRIL (CADA HORÁRIO TEM 10 VAGAS) – CLIQUE EM UM HORÁRIO ABAIXO PARA AGENDAR \nATENDIMENTO 9H;  ATENDIMENTO 10H; ATENDIMENTO 11H; ATENDIMENTO 13H; ATENDIMENTO 14H; ATENDIMENTO 15H; ATENDIMENTO 16H; \n\nATENDIMENTO JURÍDICO SÁBADO DIA 11 DE ABRIL (CADA HORÁRIO TEM 10 VAGAS) – CLIQUE EM UM HORÁRIO ABAIXO PARA AGENDAR \nATENDIMENTO 9H;  ATENDIMENTO 10H; ATENDIMENTO 11H; ATENDIMENTO 13H; ATENDIMENTO 14H; ATENDIMENTO 15H; ATENDIMENTO 16H; \n\nATENDIMENTO MÉDICO SÁBADO 11 DE ABRIL (CADA HORÁRIO TEM 6 VAGAS) – CLIQUE EM UM HORÁRIO ABAIXO PARA AGENDAR \nATENDIMENTO 9H;  ATENDIMENTO 10H; ATENDIMENTO 11H; ATENDIMENTO 13H; ATENDIMENTO 14H; ATENDIMENTO 15H; ATENDIMENTO 16H; \n\nATENDIMENTO ODONTOLÓGICO SÁBADO DIA 11 DE ABRIL (CADA HORÁRIO TEM 4 VAGAS) – CLIQUE EM UM HORÁRIO PARA AGENDAR \nATENDIMENTO 9H; ATENDIMENTO 10H; ATENDIMENTO 11H; ATENDIMENTO 13H; ATENDIMENTO 14H; ATENDIMENTO 15H; ATENDIMENTO 16H; \n\nATENDIMENTO TERAPÊUTICO SÁBADO DIA 11 DE ABRIL (CADA HORÁRIO TEM 2 VAGAS)  – CLIQUE EM UM HORÁRIO PARA AGENDAR \nATENDIMENTO 9H; ATENDIMENTO 10H; ATENDIMENTO 11H; ATENDIMENTO 13H; ATENDIMENTO 14H; ATENDIMENTO 15H; ATENDIMENTO 16H; \n\nATENDIMENTO CABELEIREIRO SÁBADO DIA 11 DE ABRIL (CADA HORÁRIO TEM 8 VAGAS) – CLIQUE EM UM HORÁRIO PARA AGENDAR \nATENDIMENTO 9H; ATENDIMENTO 10H; ATENDIMENTO 11H; ATENDIMENTO 13H; ATENDIMENTO 14H; ATENDIMENTO 15H; ATENDIMENTO 16H; \n\nCLIQUE AQUI PARA AS VAGAS EXTRAS – SÁBADO (11 DE ABRIL) – ATENDIMENTO OFTALMOLÓGICO (+ ÓCULOS GRAU) – 09H ÀS 12H \nCLIQUE AQUI PARA AS VAGAS EXTRAS – SÁBADO (11 DE ABRIL) – ATENDIMENTO OFTALMOLÓGICO (+ ÓCULOS GRAU) – 13H ÀS 16H \nOficina + Palestra (Orientação para Mercado de Trabalho e Carreira) – Tema: Elaboração de Currículo e Preparação para Entrevistas de Emprego ( \nCLIQUE AQUI PARA  FAZER INSCRIÇÃO  NO HORÁRIO DAS  09H  (20 VAGAS) \nCLIQUE AQUI PARA  FAZER INSCRIÇÃO NO HORÁRIO DAS   10H20 (20 VAGAS) \n\nAGENDAMENTO DE EMISSÃO DE CARTEIRA DE IDENTIDADE: \nCLIQUE AQUI PARA EMISSÃO DE CARTEIRA DE IDENTIDADE – 9H ÀS 12H  \nCLIQUE AQUI PARA EMISSÃO DE CARTEIRA DE IDENTIDADE – 13H ÀS 16H  \nSábado 11/04 das 13h-14h – Bate-papo com Adolescentes: Carreira\, Profissões e Escolhas para o Futuro (Adolescentes de 12 a 17 anos) – (20 VAGAS)  \nCLIQUE AQUI E FAÇA A SUA INSCRIÇÃO Bate-papo com Adolescente
URL:https://iebv.com.br/agenda/carretamissionaria/
LOCATION:IEBV\, Av. Saturnino Rangel Mauro\, 725 - Jardim da Penha\, Vitória - ES\, Vitória\, Espírito Santo\, 29060-770\, Brasil
CATEGORIES:Eventos IEBV,Externo
ATTACH;FMTTYPE=image/jpeg:https://iebv.com.br/wp-content/uploads/2026/03/CARRETA-MISSIONARIA.jpeg
END:VEVENT
BEGIN:VEVENT
DTSTART;TZID=America/Sao_Paulo:20260227T193000
DTEND;TZID=America/Sao_Paulo:20260227T210000
DTSTAMP:20260420T213844
CREATED:20251114T080048Z
LAST-MODIFIED:20260214T194147Z
UID:1817-1772220600-1772226000@iebv.com.br
SUMMARY:CELEBRE IEBV - 2026
DESCRIPTION:CELEBRE 2026  – NOITE DOS VOLUNTÁRIOS \nDIA 27 DE FEVEREIRO\, SEXTA-FEIRA ÀS 19H30 \nENTRADA GRATUITA \nUm evento direcionado aos nossos amados voluntários! \nFaça a sua inscrição e venha desfrutar de caldos deliciosos e um tempo de comunhão! Entrada gratuita! \n  \nCLIQUE AQUI E FAÇA A SUA INSCRIÇÃO! \n 
URL:https://iebv.com.br/agenda/celebre/
LOCATION:Espírito Santo
CATEGORIES:Eventos IEBV,Externo
ATTACH;FMTTYPE=image/jpeg:https://iebv.com.br/wp-content/uploads/2025/11/IMG-20260213-WA0077.jpg
END:VEVENT
BEGIN:VEVENT
DTSTART;TZID=America/Sao_Paulo:20260207T193000
DTEND;TZID=America/Sao_Paulo:20260207T213000
DTSTAMP:20260420T213844
CREATED:20250121T211512Z
LAST-MODIFIED:20260207T231042Z
UID:964-1770492600-1770499800@iebv.com.br
SUMMARY:Homem ao máximo
DESCRIPTION:Curso que revela o plano de Deus em relação à identidade e as responsabilidades do homem. Descubra o propósito de Deus para sua vida\, sua família\, de seu relacionamento conjugal e a benção de ser um bom pai para seus filhos.
URL:https://iebv.com.br/agenda/homemaomaximo/
LOCATION:IEBV\, Av. Saturnino Rangel Mauro\, 725 - Jardim da Penha\, Vitória - ES\, Vitória\, Espírito Santo\, 29060-770\, Brasil
CATEGORIES:Cursos
ATTACH;FMTTYPE=image/jpeg:https://iebv.com.br/wp-content/uploads/2025/01/homem-ao-maximo.jpeg
END:VEVENT
BEGIN:VEVENT
DTSTART;TZID=America/Sao_Paulo:20260130T080000
DTEND;TZID=America/Sao_Paulo:20260415T233000
DTSTAMP:20260420T213844
CREATED:20260130T130025Z
LAST-MODIFIED:20260311T171248Z
UID:3640-1769760000-1776295800@iebv.com.br
SUMMARY:CAMISA 2026
DESCRIPTION:. .\nNossa camisa 2026 chegou carregada de propósito!\nEla expressa a visão que move nossa geração:\nAMAR JESUS – GANHAR VIDAS.\nNão é só sobre o que você veste\,\né sobre o que você vive\, acredita e compartilha.\nVista essa visão. Viva Jesus.\n\nValor: 70\,00\nForma de Pagamento – PIX ou 1x no cartão\nPrazo para pedido – Até dia 06/03\nObs.: Você pode escolher mais de uma cor se preferir.\n\n\nEscolha a Cor (Azul marinho\, Marrom\, Vinho)\nEscolha o tamanho\nModelo: Over\n   \n  \nCLIQUE AQUI E COMPRE A SUA CAMISA
URL:https://iebv.com.br/agenda/camisa2026/
LOCATION:Espírito Santo
CATEGORIES:Eventos IEBV,Externo
ATTACH;FMTTYPE=image/jpeg:https://iebv.com.br/wp-content/uploads/2026/01/IMG-20260130-WA0061.jpg
END:VEVENT
BEGIN:VEVENT
DTSTART;TZID=America/Sao_Paulo:20251128T200000
DTEND;TZID=America/Sao_Paulo:20251128T220000
DTSTAMP:20260420T213844
CREATED:20251104T165758Z
LAST-MODIFIED:20251105T170655Z
UID:3434-1764360000-1764367200@iebv.com.br
SUMMARY:Noite de Gala - RDA (Rede de Adolescentes)
DESCRIPTION:UMA NOITE DE CONFRATERNIZAÇÃO DA REDE DE ADOLESCENTES DA IEBV\, EM QUE FAREMOS UM JANTAR DE GALA. CADA PARTICIPANTE DEVE IR COM SUA MELHOR ROUPA DO GUARDA-ROUPA. \nCLIQUE AQUI PARA FAZER A SUA INSCRIÇÃO
URL:https://iebv.com.br/agenda/noitedegala/
LOCATION:IEBV\, Av. Saturnino Rangel Mauro\, 725 - Jardim da Penha\, Vitória - ES\, Vitória\, Espírito Santo\, 29060-770\, Brasil
CATEGORIES:Eventos IEBV,Externo
ATTACH;FMTTYPE=image/jpeg:https://iebv.com.br/wp-content/uploads/2024/11/NOITE-DE-GALA.jpeg
END:VEVENT
BEGIN:VEVENT
DTSTART;TZID=America/Sao_Paulo:20251108T100000
DTEND;TZID=America/Sao_Paulo:20251108T170000
DTSTAMP:20260420T213844
CREATED:20251013T193013Z
LAST-MODIFIED:20251013T195000Z
UID:3872-1762596000-1762621200@iebv.com.br
SUMMARY:Dia da Família
DESCRIPTION:Venha comemorar essa data tão especial conosco! \nLocal: CTC (Centro de Treinamento Cristão) em Jacaraípe \nInscrições: \n1. Acima de 11 anos. 40\,00 \n2. 5 a 10 anos. 25\,00. \n3. Até  4 anos isento. \nCLIQUE AQUI E FAÇA A SUA INSCRIÇÃO!
URL:https://iebv.com.br/agenda/dia-da-familia/
LOCATION:CTC Jacaraípe\, Rua Mato Grosso\, 128 - Estância Monazítica\, Serra\, Espírito Santo\, 29175-141
CATEGORIES:Eventos IEBV,Externo
ATTACH;FMTTYPE=image/jpeg:https://iebv.com.br/wp-content/uploads/2025/10/IMG-20251010-WA0081.jpg
END:VEVENT
BEGIN:VEVENT
DTSTART;TZID=America/Sao_Paulo:20251024T220000
DTEND;TZID=America/Sao_Paulo:20251025T060000
DTSTAMP:20260420T213844
CREATED:20240904T140325Z
LAST-MODIFIED:20250912T141806Z
UID:3122-1761343200-1761372000@iebv.com.br
SUMMARY:Vigilia WAKE
DESCRIPTION:🔥 VIGÍLIA WAKE – É HORA DE DESPERTAR! 🔥 \nEi\, galera! Chegou a noite que vai virar o seu mundo de cabeça pra cima. \nA Vigília Wake é pra quem quer mais de Deus\, mais intensidade e um encontro real com Jesus! \n📅 Quando? 24 de outubro\n📍 Onde? IEBV – Auditório Oásis\n🎟️ Inscrição? Totalmente GRÁTIS! \nCLIQUE AQUI E FAÇA A SUA INSCRIÇÃO \n 
URL:https://iebv.com.br/agenda/vigiliawake/
LOCATION:IEBV\, Av. Saturnino Rangel Mauro\, 725 - Jardim da Penha\, Vitória - ES\, Vitória\, Espírito Santo\, 29060-770\, Brasil
CATEGORIES:Eventos IEBV,Externo
ATTACH;FMTTYPE=image/jpeg:https://iebv.com.br/wp-content/uploads/2024/09/IMG-20250911-WA0020.jpg
END:VEVENT
BEGIN:VEVENT
DTSTART;TZID=America/Sao_Paulo:20250912T193000
DTEND;TZID=America/Sao_Paulo:20250912T193000
DTSTAMP:20260420T213844
CREATED:20250121T211458Z
LAST-MODIFIED:20250815T225622Z
UID:1896-1757705400-1757705400@iebv.com.br
SUMMARY:Mulher Virtuosa
DESCRIPTION: Inicio 12/09 às 14h30\n\nCRIADO ESPECIALMENTE PARA VOCÊ MULHER RECÉM CASADA\, QUE PRECISA DE ORIENTAÇÃO PARA INICIAR A SUA JORNADA A DOIS\, APRENDENDO O VALOR DA MULHER NO CASAMENTO\n  \nPrecisando dar um upgrade em sua vida emocional\, vida sentimental\, familiar e sua profissão? Vem com a gente nessa jornada!! ‎\n“Grandes coisas fez o SENHOR por nós\, e\, por isso\, estamos alegres.” (Salmo 126:3)\n \nCLIQUE AQUI E FAÇA A SUA INSCRIÇÃO
URL:https://iebv.com.br/agenda/mulhervirtuosa/
LOCATION:IEBV\, Av. Saturnino Rangel Mauro\, 725 - Jardim da Penha\, Vitória - ES\, Vitória\, Espírito Santo\, 29060-770\, Brasil
CATEGORIES:Cursos,Externo
ATTACH;FMTTYPE=image/jpeg:https://iebv.com.br/wp-content/uploads/2025/01/mulher-virtuosa.jpeg
END:VEVENT
BEGIN:VEVENT
DTSTART;TZID=America/Sao_Paulo:20250827T193000
DTEND;TZID=America/Sao_Paulo:20250827T213000
DTSTAMP:20260420T213844
CREATED:20240128T150058Z
LAST-MODIFIED:20250815T233956Z
UID:2143-1756323000-1756330200@iebv.com.br
SUMMARY:Homens de verdade
DESCRIPTION:Início: 27/08 às 19:30h. \n8 vagas. \nÉ um curso que com intuito de formar Homens Fortes em tempos difíceis. \nCLIQUE AQUI E FAÇA A SUA INSCRIÇÃO \n 
URL:https://iebv.com.br/agenda/homensdeverdade/
LOCATION:IEBV\, Av. Saturnino Rangel Mauro\, 725 - Jardim da Penha\, Vitória - ES\, Vitória\, Espírito Santo\, 29060-770\, Brasil
CATEGORIES:Cursos,Externo
ATTACH;FMTTYPE=image/jpeg:https://iebv.com.br/wp-content/uploads/2024/01/homem-de-verdade.jpeg
END:VEVENT
BEGIN:VEVENT
DTSTART;TZID=America/Sao_Paulo:20250825T193000
DTEND;TZID=America/Sao_Paulo:20250825T213000
DTSTAMP:20260420T213844
CREATED:20250816T000432Z
LAST-MODIFIED:20250816T000432Z
UID:3823-1756150200-1756157400@iebv.com.br
SUMMARY:Um convite para voar
DESCRIPTION:Início 25/08 às 19h30 \nCLIQUE AQUI E FAÇA A SUA INSCRIÇÃO
URL:https://iebv.com.br/agenda/conviteparavoar/
LOCATION:IEBV\, Av. Saturnino Rangel Mauro\, 725 - Jardim da Penha\, Vitória - ES\, Vitória\, Espírito Santo\, 29060-770\, Brasil
CATEGORIES:Cursos,Externo
ATTACH;FMTTYPE=image/jpeg:https://iebv.com.br/wp-content/uploads/2025/08/convite-para-voar.jpeg
END:VEVENT
BEGIN:VEVENT
DTSTART;TZID=America/Sao_Paulo:20250825T193000
DTEND;TZID=America/Sao_Paulo:20250825T213000
DTSTAMP:20260420T213844
CREATED:20250122T183758Z
LAST-MODIFIED:20250817T135855Z
UID:1340-1756150200-1756157400@iebv.com.br
SUMMARY:Educação de Filhos a maneira de Deus
DESCRIPTION:Reconhecido como pioneiro para pais e mães educarem seus filhos dentro de uma mesma mentalidade\, etabelecenod uma visão biblica de paternidade em sua casa.(Recomendado para pais com filhos entre 3 e 10 anos) \nInício dia 29/09 \nHorário: 19h30 \nCLIQUE AQUI E FAÇA A SUA INSCRIÇÃO
URL:https://iebv.com.br/agenda/educacaodefilhos/
LOCATION:IEBV\, Av. Saturnino Rangel Mauro\, 725 - Jardim da Penha\, Vitória - ES\, Vitória\, Espírito Santo\, 29060-770\, Brasil
CATEGORIES:Cursos,Externo
ATTACH;FMTTYPE=image/jpeg:https://iebv.com.br/wp-content/uploads/2025/01/educacao-de-filhos-maneira-de-Deus.jpeg
END:VEVENT
BEGIN:VEVENT
DTSTART;TZID=America/Sao_Paulo:20250822T200000
DTEND;TZID=America/Sao_Paulo:20250824T200000
DTSTAMP:20260420T213844
CREATED:20250703T180618Z
LAST-MODIFIED:20250703T182048Z
UID:3728-1755892800-1756065600@iebv.com.br
SUMMARY:Conferência da Juventude IEBV - Meu lugar na história
DESCRIPTION:*Programação Conferência da Juventude IEBV*\nData: 22\, 23 e 24 de Agosto.\nTEMA: MEU LUGAR NA HISTÓRIA \n*Sexta\, dia 22*\n• Culto 20h. (Banda Ligth House + Pr. Dodô)\n*Sábado\, dia 23*\n• Café da tarde – 16h.\n• Oficinas – 17h.\no Descobrindo meus dons e talentos;\no Como ser uma influência de Deus;\n• Culto – 19:30h. (Banda MAOR + Pr. Julyander)\n*Domingo\, dia 24*\n• Culto – 18:30h (Templo) (Banda LH + Pr. Fábio) \nCLIQUE AQUI E FAÇA A SUA INSCRIÇÃO!
URL:https://iebv.com.br/agenda/conferencia-da-juventude-iebv-meu-lugar-na-historia/
LOCATION:IEBV\, Av. Saturnino Rangel Mauro\, 725 - Jardim da Penha\, Vitória - ES\, Vitória\, Espírito Santo\, 29060-770\, Brasil
CATEGORIES:Eventos IEBV,Externo
ATTACH;FMTTYPE=image/jpeg:https://iebv.com.br/wp-content/uploads/2025/07/IMG-20250703-WA0052.jpg
END:VEVENT
BEGIN:VEVENT
DTSTART;TZID=America/Sao_Paulo:20250809T093000
DTEND;TZID=America/Sao_Paulo:20250809T120000
DTSTAMP:20260420T213844
CREATED:20250720T170239Z
LAST-MODIFIED:20250720T170340Z
UID:3763-1754731800-1754740800@iebv.com.br
SUMMARY:DIA DOS PAIS - CAFÉ DA MANHÃ COMPARTILHADO
DESCRIPTION:Manhã Pais e Filhos com Café compartilhado no Corpo de Bombeiros de Vitória às 9h30! Venha e traga seus filhos! \nCLIQUE AQUI E FAÇA A SUA INSCRIÇÃO GRATUITA
URL:https://iebv.com.br/agenda/dia-dos-pais-cafe-da-manha-compartilhado/
LOCATION:Espírito Santo
CATEGORIES:Eventos IEBV,Externo
ATTACH;FMTTYPE=image/jpeg:https://iebv.com.br/wp-content/uploads/2025/07/IMG-20250718-WA0032.jpg
END:VEVENT
BEGIN:VEVENT
DTSTART;TZID=America/Sao_Paulo:20250703T193000
DTEND;TZID=America/Sao_Paulo:20250703T210000
DTSTAMP:20260420T213844
CREATED:20240524T112027Z
LAST-MODIFIED:20250527T182428Z
UID:3340-1751571000-1751576400@iebv.com.br
SUMMARY:Culto  Palavra e Vida - Especial Mulheres
DESCRIPTION:Dia 03 de Julho\, quinta-feira\, teremos um culto direcionado para as mulheres no templo da IEBV às 19h30.\nA inscrição é gratuita\, e será um tempo de aprendizado e compartilhamento!\nCLIQUE AQUI E FAÇA A SUA INSCRIÇÃO!
URL:https://iebv.com.br/agenda/cultopalavraevidaespecial/
LOCATION:IEBV\, Av. Saturnino Rangel Mauro\, 725 - Jardim da Penha\, Vitória - ES\, Vitória\, Espírito Santo\, 29060-770\, Brasil
CATEGORIES:Eventos IEBV,Externo
END:VEVENT
BEGIN:VEVENT
DTSTART;TZID=America/Sao_Paulo:20250405T193000
DTEND;TZID=America/Sao_Paulo:20250405T210000
DTSTAMP:20260420T213844
CREATED:20241108T162953Z
LAST-MODIFIED:20250307T142156Z
UID:2232-1743881400-1743886800@iebv.com.br
SUMMARY:Jantar de Casais 2025
DESCRIPTION:Preparem-se para uma noite especial com muita adoração\, amor e comunhão! No dia 05 de abril\, às 19h30\, nossa Igreja realizará um delicioso Jantar de Casais\, e vocês casados ou noivos\, são nossos convidados especiais! \nO cardápio escolhido foi o penne com ragu de costela e o bait de ancho com arroz multigrãos mediterrâneo\, perfeito para fortalecer ainda mais os laços do seu relacionamento. \n🔹 Data: Sábado\, 05 de Abril\n🔹 Horário: 19h30\n🔹 Valor: R$ 170\,00 por casal (PIX) ou R$ 175\,00 por Casal (Cartão de Crédito) | Bebida Inclusa \nGaranta já a sua vaga e venha desfrutar desse momento único de celebração e amor. Não perca! \nCaso tenha dificuldade para fazer a sua inscrição\, entre em contato com o nosso suporte técnico pelo Whatsapp 2798174-0055 \nClique aqui e faça a sua inscrição e confira o cardápio! \n 
URL:https://iebv.com.br/agenda/jantardecasais/
LOCATION:IEBV\, Av. Saturnino Rangel Mauro\, 725 - Jardim da Penha\, Vitória - ES\, Vitória\, Espírito Santo\, 29060-770\, Brasil
CATEGORIES:Eventos IEBV,Externo
ATTACH;FMTTYPE=image/jpeg:https://iebv.com.br/wp-content/uploads/2024/11/WhatsApp-Image-2025-03-05-at-20.25.29.jpeg
END:VEVENT
BEGIN:VEVENT
DTSTART;TZID=America/Sao_Paulo:20250402T193000
DTEND;TZID=America/Sao_Paulo:20250402T213000
DTSTAMP:20260420T213844
CREATED:20250122T202049Z
LAST-MODIFIED:20250122T205525Z
UID:2794-1743622200-1743629400@iebv.com.br
SUMMARY:Relacionamentos Segundo o Coração de Deus
DESCRIPTION:Data de início: 02/04/2025 – Sexta \nHorário: 19h30 \nCurso gratuito\, somente o custo do material será pago. \nMaiores informações com Renata Vidon pelo telefone ou whatsapp: 27 99227-8761
URL:https://iebv.com.br/agenda/relacionamentossegundo/
LOCATION:IEBV\, Av. Saturnino Rangel Mauro\, 725 - Jardim da Penha\, Vitória - ES\, Vitória\, Espírito Santo\, 29060-770\, Brasil
CATEGORIES:Cursos
ATTACH;FMTTYPE=image/jpeg:https://iebv.com.br/wp-content/uploads/2024/06/relacionamtneos-02-abril.jpeg
END:VEVENT
BEGIN:VEVENT
DTSTART;TZID=America/Sao_Paulo:20250401T080000
DTEND;TZID=America/Sao_Paulo:20251130T233000
DTSTAMP:20260420T213844
CREATED:20250401T200519Z
LAST-MODIFIED:20250727T143552Z
UID:3646-1743494400-1764545400@iebv.com.br
SUMMARY:CAMISA LIVEHIVE - IMPROVÁVEIS PORÉM ESCOLHIDOS
DESCRIPTION:Fala galera da LH!\nEssa é a nossa camisa de 2025\, com o tema: Improváveis\, porém escolhidos!\nAdquira já sua camisa! Valor R$ 60\,00\nQualquer dúvida favor entrar em contato com Pr. Fábio (27997745361)\n\nCLIQUE AQUI E COMPRE A SUA CAMISA
URL:https://iebv.com.br/agenda/camisalh/
LOCATION:Espírito Santo
CATEGORIES:Externo
ATTACH;FMTTYPE=image/jpeg:https://iebv.com.br/wp-content/uploads/2025/04/LIVEHIVE.jpeg
END:VEVENT
BEGIN:VEVENT
DTSTART;TZID=America/Sao_Paulo:20250312T193000
DTEND;TZID=America/Sao_Paulo:20250312T210000
DTSTAMP:20260420T213844
CREATED:20250121T211702Z
LAST-MODIFIED:20250126T222835Z
UID:3542-1741807800-1741813200@iebv.com.br
SUMMARY:CROWN KIDS
DESCRIPTION:É um curso que nos ensina a administrar as nossas finanças de acordo com a palavra de Deus \nData de início: 12/03/2025 – Quarta \nHorário: 19h30 \nCurso gratuito\, somente o custo do material será pago. \nMaiores informações com Leane pelo Whatsapp 27 992785818 ou Leonard 27 99966678
URL:https://iebv.com.br/agenda/crownkids/
LOCATION:IEBV\, Av. Saturnino Rangel Mauro\, 725 - Jardim da Penha\, Vitória - ES\, Vitória\, Espírito Santo\, 29060-770\, Brasil
CATEGORIES:Cursos
ATTACH;FMTTYPE=image/jpeg:https://iebv.com.br/wp-content/uploads/2025/01/crown-criancas.jpeg
END:VEVENT
BEGIN:VEVENT
DTSTART;TZID=America/Sao_Paulo:20250311T193000
DTEND;TZID=America/Sao_Paulo:20250311T203000
DTSTAMP:20260420T213844
CREATED:20250121T210622Z
LAST-MODIFIED:20250121T211202Z
UID:2155-1741721400-1741725000@iebv.com.br
SUMMARY:Pais Discipuladores
DESCRIPTION:O objetiovo deste curso é evidenciar como a aplicaçã dos princípios de Deus podem leh ajudar na criação dos seus filhos frente aos desafios do mundo pós moderno. \nData de início: 11/03/2025 – Terça \nHorário: 19h30 \nCurso gratuito\, somente o custo do material será pago. \nMaiores informações com Pr. Sandro pelo Whatsapp: 27 998480849 \n  \n  \n  \n 
URL:https://iebv.com.br/agenda/paisdiscipuladores/
LOCATION:IEBV\, Av. Saturnino Rangel Mauro\, 725 - Jardim da Penha\, Vitória - ES\, Vitória\, Espírito Santo\, 29060-770\, Brasil
CATEGORIES:Cursos
ATTACH;FMTTYPE=image/jpeg:https://iebv.com.br/wp-content/uploads/2024/01/pais-discipuladores.jpeg
END:VEVENT
BEGIN:VEVENT
DTSTART;TZID=America/Sao_Paulo:20240822T193000
DTEND;TZID=America/Sao_Paulo:20240822T223000
DTSTAMP:20260420T213844
CREATED:20240723T225332Z
LAST-MODIFIED:20240723T225657Z
UID:2914-1724355000-1724365800@iebv.com.br
SUMMARY:O cuidado com o corpo
DESCRIPTION:No dia 22 de agosto às 19h30 acontecerá na IEBV a conferência “O cuidado do corpo” com o Pr Luciano Subirá\, as vagas são limitadas! \nFaça sua inscrição através do link que está aparecendo na sua tela \nHá dois tipos de inscrição: \n* individual. O valor é R$ 49\,50 e inclui 2 livros: O Cuidado do Corpo (208 pgs) + Rumo aos 120 (256 pgs). \n* Casal. O valor é R$ 83\,60 e inclui 4 livros: O Cuidado do Corpo (208 pgs) + Rumo aos 120 (256 pgs) + Margem (288 pgs) + O Devocional Diário (63 pgs). \nNão é permitida a participação de crianças (menores de 11 anos) e o ministério infantil não estará funcionando \n  \nCLIQUE AQUI E FAÇA A SUA INSCRIÇÃO!
URL:https://iebv.com.br/agenda/o-cuidado-com-o-corpo/
LOCATION:IEBV\, Av. Saturnino Rangel Mauro\, 725 - Jardim da Penha\, Vitória - ES\, Vitória\, Espírito Santo\, 29060-770\, Brasil
CATEGORIES:Eventos IEBV
END:VEVENT
BEGIN:VEVENT
DTSTART;TZID=America/Sao_Paulo:20240804T173000
DTEND;TZID=America/Sao_Paulo:20240804T200000
DTSTAMP:20260420T213844
CREATED:20240701T195128Z
LAST-MODIFIED:20240723T173424Z
UID:2812-1722792600-1722801600@iebv.com.br
SUMMARY:Culto com o Pr. Claudio Duarte - 04 de Agosto 20h
DESCRIPTION:Culto das 17h30 e 20h inscrições esgotadas! Deus abençoe a todos! \n\n 
URL:https://iebv.com.br/agenda/claudioduarte/
LOCATION:Espírito Santo
END:VEVENT
BEGIN:VEVENT
DTSTART;TZID=America/Sao_Paulo:20240803T080000
DTEND;TZID=America/Sao_Paulo:20240803T120000
DTSTAMP:20260420T213844
CREATED:20240624T182105Z
LAST-MODIFIED:20240624T193126Z
UID:2778-1722672000-1722686400@iebv.com.br
SUMMARY:Curados para Curar
DESCRIPTION:Iinício: 03 de Agosto |  Sábado às 8h30 \nPara mais informações entre em contato com Ana Paula através do telefone (27)99628-6424
URL:https://iebv.com.br/agenda/casados-para-curar/
LOCATION:Espírito Santo
CATEGORIES:Cursos
ATTACH;FMTTYPE=image/jpeg:https://iebv.com.br/wp-content/uploads/2024/06/curados-para-curar.jpeg
END:VEVENT
BEGIN:VEVENT
DTSTART;TZID=America/Sao_Paulo:20240607T220000
DTEND;TZID=America/Sao_Paulo:20240607T220000
DTSTAMP:20260420T213844
CREATED:20240508T183309Z
LAST-MODIFIED:20240508T184222Z
UID:2597-1717797600-1717797600@iebv.com.br
SUMMARY:Vigília da Juventude
DESCRIPTION:Kit Vigília + Alimentação \nTema: De todo Coração \nData: 07 de junho \nHora: 22 horas
URL:https://iebv.com.br/agenda/vigilia-da-juventude/
LOCATION:IEBV\, Av. Saturnino Rangel Mauro\, 725 - Jardim da Penha\, Vitória - ES\, Vitória\, Espírito Santo\, 29060-770\, Brasil
CATEGORIES:Eventos IEBV
END:VEVENT
BEGIN:VEVENT
DTSTART;TZID=America/Sao_Paulo:20240322T193000
DTEND;TZID=America/Sao_Paulo:20240322T213000
DTSTAMP:20260420T213844
CREATED:20240128T165817Z
LAST-MODIFIED:20240226T123136Z
UID:1337-1711135800-1711143000@iebv.com.br
SUMMARY:Alcançando o coração do seu Adolescente
DESCRIPTION:Curso: Alcançando coração do seu Adolescente \nData: 22 de março \nHorário: 19:30h \nEste curso levará você a entender as principais características dessa fase da vida e o que a palavra de deus diz a respeito ajudará os responsáveis a refletirem sobre atitudes e comportamentos dos adolescentes\, ajudando-os a descobrir respostas e a construir relacionamentos saudáveis. Recomendado para pais e mães com filhos acima de 10 anos. \n \n  \n  \n 
URL:https://iebv.com.br/agenda/alcancandoseuadolescente/
LOCATION:IEBV\, Av. Saturnino Rangel Mauro\, 725 - Jardim da Penha\, Vitória - ES\, Vitória\, Espírito Santo\, 29060-770\, Brasil
CATEGORIES:Cursos
ATTACH;FMTTYPE=image/png:https://iebv.com.br/wp-content/uploads/2024/01/adolescentes-1920-x-1080-px.png
END:VEVENT
BEGIN:VEVENT
DTSTART;TZID=America/Sao_Paulo:20240228T193000
DTEND;TZID=America/Sao_Paulo:20240228T213000
DTSTAMP:20260420T213844
CREATED:20240128T145125Z
LAST-MODIFIED:20240130T232220Z
UID:2176-1709148600-1709155800@iebv.com.br
SUMMARY:Criando filhos a maneira de Deus
DESCRIPTION:Início: 28 de Fevereiro | Quarta às 19h30 \nEste curso tem o objetivo de ensinar como criar seus filhos a maneira de Deus! \n \n  \n  \n  \n 
URL:https://iebv.com.br/agenda/criando-filhos-a-maneira-de-deus/
LOCATION:IEBV\, Av. Saturnino Rangel Mauro\, 725 - Jardim da Penha\, Vitória - ES\, Vitória\, Espírito Santo\, 29060-770\, Brasil
CATEGORIES:Cursos
ATTACH;FMTTYPE=image/jpeg:https://iebv.com.br/wp-content/uploads/2024/01/criando-filhos-a-maneira-de-Deus.jpeg
END:VEVENT
BEGIN:VEVENT
DTSTART;TZID=America/Sao_Paulo:20240218T093000
DTEND;TZID=America/Sao_Paulo:20240218T103000
DTSTAMP:20260420T213844
CREATED:20240128T144910Z
LAST-MODIFIED:20240130T231057Z
UID:2135-1708248600-1708252200@iebv.com.br
SUMMARY:Preparatório para Batismo
DESCRIPTION:Início: 18 de Fevereiro | Domingo às 9h30 \nEste curso tem como objetivo ensinar as doutrinas do Senhor para te preparar para o Batismo! \n \n  \n  \n 
URL:https://iebv.com.br/agenda/preparatorio-para-batismo/
LOCATION:Espírito Santo
CATEGORIES:Cursos
END:VEVENT
END:VCALENDAR