BEGIN:VCALENDAR
VERSION:2.0
PRODID:-//IEBV - ECPv6.15.16//NONSGML v1.0//EN
CALSCALE:GREGORIAN
METHOD:PUBLISH
X-WR-CALNAME:IEBV
X-ORIGINAL-URL:https://iebv.com.br
X-WR-CALDESC:Eventos para IEBV
REFRESH-INTERVAL;VALUE=DURATION:PT1H
X-Robots-Tag:noindex
X-PUBLISHED-TTL:PT1H
BEGIN:VTIMEZONE
TZID:America/Sao_Paulo
BEGIN:STANDARD
TZOFFSETFROM:-0300
TZOFFSETTO:-0300
TZNAME:-03
DTSTART:20240101T000000
END:STANDARD
END:VTIMEZONE
BEGIN:VEVENT
DTSTART;TZID=America/Sao_Paulo:20250215T083000
DTEND;TZID=America/Sao_Paulo:20261231T083000
DTSTAMP:20260420T212648
CREATED:20250121T152639Z
LAST-MODIFIED:20260207T233018Z
UID:3501-1739608200-1798705800@iebv.com.br
SUMMARY:Curadas para Curar
DESCRIPTION:O Curso aborda a tríade corpo\, alma e espírito e trabalha cada encontro aspectos importantes como identidade\, autoestima\, família\, perdão e paternidade. Venha descobrir e desfrutar a vida abundante que vem de Deus para você.
URL:https://iebv.com.br/agenda/curadasparacurar/
LOCATION:IEBV\, Av. Saturnino Rangel Mauro\, 725 - Jardim da Penha\, Vitória - ES\, Vitória\, Espírito Santo\, 29060-770\, Brasil
CATEGORIES:Cursos
ATTACH;FMTTYPE=image/jpeg:https://iebv.com.br/wp-content/uploads/2025/01/curadas-para-curar.jpeg
END:VEVENT
BEGIN:VEVENT
DTSTART;TZID=America/Sao_Paulo:20250827T193000
DTEND;TZID=America/Sao_Paulo:20261231T210000
DTSTAMP:20260420T212648
CREATED:20250121T204706Z
LAST-MODIFIED:20260207T232135Z
UID:1711-1756323000-1798750800@iebv.com.br
SUMMARY:Curso de Finanças Crown Adultos
DESCRIPTION:Este curso tem como objetivo ensinar princípios financeiros estabelecidos na palavra de Deus\, para que as pessoas saibam administrar suas finanças e bens. \n\n 
URL:https://iebv.com.br/agenda/crownadultos/
LOCATION:IEBV\, Av. Saturnino Rangel Mauro\, 725 - Jardim da Penha\, Vitória - ES\, Vitória\, Espírito Santo\, 29060-770\, Brasil
CATEGORIES:Cursos
ATTACH;FMTTYPE=image/jpeg:https://iebv.com.br/wp-content/uploads/2025/01/crown-1.jpeg
END:VEVENT
BEGIN:VEVENT
DTSTART;TZID=America/Sao_Paulo:20250907T090000
DTEND;TZID=America/Sao_Paulo:20261231T100000
DTSTAMP:20260420T212648
CREATED:20240128T145043Z
LAST-MODIFIED:20260207T232644Z
UID:1346-1757235600-1798711200@iebv.com.br
SUMMARY:Preparação para a chegada do bebê
DESCRIPTION:Curso que aborda aspectos essenciais do desenvolvimento infantil que ajudarão os futuros pais no estabelecimento de uma rotina de amamentação\, vigília e sono do bebê\, além de informações completas acerca dos cuidados com o recém-nascido. \n\n  \n  \n 
URL:https://iebv.com.br/agenda/chegadadobebe/
LOCATION:IEBV\, Av. Saturnino Rangel Mauro\, 725 - Jardim da Penha\, Vitória - ES\, Vitória\, Espírito Santo\, 29060-770\, Brasil
CATEGORIES:Cursos
ATTACH;FMTTYPE=image/jpeg:https://iebv.com.br/wp-content/uploads/2024/01/chegada-do-bebe-1.jpeg
END:VEVENT
BEGIN:VEVENT
DTSTART;TZID=America/Sao_Paulo:20260207T000000
DTEND;TZID=America/Sao_Paulo:20260430T000000
DTSTAMP:20260420T212648
CREATED:20250121T201027Z
LAST-MODIFIED:20260207T231610Z
UID:3507-1770422400-1777507200@iebv.com.br
SUMMARY:Casamentos Saudáveis
DESCRIPTION:Curso para casais que desejam aperfeiçoar o autoconhecimento e compreender melhor seu cônjuge. O curso oferece em aulas dinâmicas a oportunidade para firmar a união conjugal com laços claros e profundos.
URL:https://iebv.com.br/agenda/casamentossaudaveis/
LOCATION:Espírito Santo
CATEGORIES:Cursos
ATTACH;FMTTYPE=image/jpeg:https://iebv.com.br/wp-content/uploads/2025/01/casamentos-saudaveis.jpeg
END:VEVENT
BEGIN:VEVENT
DTSTART;TZID=America/Sao_Paulo:20260207T193000
DTEND;TZID=America/Sao_Paulo:20261207T213000
DTSTAMP:20260420T212648
CREATED:20250121T185041Z
LAST-MODIFIED:20260207T231856Z
UID:2785-1770492600-1796679000@iebv.com.br
SUMMARY:Curados pela Graça
DESCRIPTION:Esse curso proporciona a restauração emocional através da graça surpreendente de Deus. Graça que nos convida a viver uma vida saudável e frutífera em que o Poder do Pai se aperfeiçoa em nossas fraquezas mesmo que não alcancemos os resultados que você ou os outros desejam.
URL:https://iebv.com.br/agenda/curadospelagraca/
LOCATION:Espírito Santo
CATEGORIES:Cursos
ATTACH;FMTTYPE=image/jpeg:https://iebv.com.br/wp-content/uploads/2025/01/curados-pela-graca.jpeg
END:VEVENT
BEGIN:VEVENT
DTSTART;TZID=America/Sao_Paulo:20260207T193000
DTEND;TZID=America/Sao_Paulo:20261231T210000
DTSTAMP:20260420T212648
CREATED:20250122T183314Z
LAST-MODIFIED:20260207T232314Z
UID:1328-1770492600-1798750800@iebv.com.br
SUMMARY:A Mulher que prospera
DESCRIPTION:Curso inspirado nos conselhos infalíveis da mãe do Rei Lemuel relatados no livro de Provérbios capitulo 31. Conselhos que ajudarão a mulher a alcançar prosperidade integral\, enfrentar os desafios e ter mais proximidade com Deus. \n  \n  \n  \n 
URL:https://iebv.com.br/agenda/mulherqueprospera/
LOCATION:IEBV\, Av. Saturnino Rangel Mauro\, 725 - Jardim da Penha\, Vitória - ES\, Vitória\, Espírito Santo\, 29060-770\, Brasil
CATEGORIES:Cursos
ATTACH;FMTTYPE=image/jpeg:https://iebv.com.br/wp-content/uploads/2025/01/mulher-que-prospera-1.jpeg
END:VEVENT
BEGIN:VEVENT
DTSTART;TZID=America/Sao_Paulo:20260207T193000
DTEND;TZID=America/Sao_Paulo:20261231T213000
DTSTAMP:20260420T212648
CREATED:20250122T201048Z
LAST-MODIFIED:20260207T232035Z
UID:1331-1770492600-1798752600@iebv.com.br
SUMMARY:Casados para sempre
DESCRIPTION:Curso que ensina os casais a andarem na plenitude do relacionamento de “uma só carne”\, capacitando-os a tornarem seu lar um lar cristão aprendendo ferramentas pra edificar e transformar o casamento segundo a vontade de Deus.
URL:https://iebv.com.br/agenda/casadosparasempre/
LOCATION:IEBV\, Av. Saturnino Rangel Mauro\, 725 - Jardim da Penha\, Vitória - ES\, Vitória\, Espírito Santo\, 29060-770\, Brasil
CATEGORIES:Cursos
ATTACH;FMTTYPE=image/jpeg:https://iebv.com.br/wp-content/uploads/2025/01/casados-para-sempre.jpeg
END:VEVENT
BEGIN:VEVENT
DTSTART;TZID=America/Sao_Paulo:20260207T193000
DTEND;TZID=America/Sao_Paulo:20261231T213000
DTSTAMP:20260420T212648
CREATED:20250307T232000Z
LAST-MODIFIED:20260207T232043Z
UID:3578-1770492600-1798752600@iebv.com.br
SUMMARY:Curso de Noivos
DESCRIPTION:Curso que levará casais de noivos a impressionante jornada chamada casamento. Com lições profundas os noivos conhecerão ferramentas essenciais para o lidar com sabedoria com seu futuro cônjuge\, como finanças\, sexualidade\, planejamento familiar e vida a dois. \n\n\n 
URL:https://iebv.com.br/agenda/curso-de-noivos/
LOCATION:IEBV\, Av. Saturnino Rangel Mauro\, 725 - Jardim da Penha\, Vitória - ES\, Vitória\, Espírito Santo\, 29060-770\, Brasil
CATEGORIES:Cursos
ATTACH;FMTTYPE=image/jpeg:https://iebv.com.br/wp-content/uploads/2025/03/curso-de-noivos.jpeg
END:VEVENT
BEGIN:VEVENT
DTSTART;TZID=America/Sao_Paulo:20260309T193000
DTEND;TZID=America/Sao_Paulo:20261231T213000
DTSTAMP:20260420T212648
CREATED:20240624T191829Z
LAST-MODIFIED:20260309T171109Z
UID:387-1773084600-1798752600@iebv.com.br
SUMMARY:Mulher Única
DESCRIPTION:Curso que apresenta ferramentas para alcançar a imagem que Deus projetou para as mulheres utilizando abordagens que visam fortalecer a feminilidade\, responsabilidade e valor pessoal\, impactando família e sociedade.
URL:https://iebv.com.br/agenda/mulherunica/
LOCATION:IEBV\, Av. Saturnino Rangel Mauro\, 725 - Jardim da Penha\, Vitória - ES\, Vitória\, Espírito Santo\, 29060-770\, Brasil
CATEGORIES:Cursos
ATTACH;FMTTYPE=image/jpeg:https://iebv.com.br/wp-content/uploads/2024/06/mulher-unica-1.jpeg
END:VEVENT
BEGIN:VEVENT
DTSTART;VALUE=DATE:20260612
DTEND;VALUE=DATE:20260615
DTSTAMP:20260420T212648
CREATED:20250520T173334Z
LAST-MODIFIED:20260316T224730Z
UID:2091-1781222400-1781481599@iebv.com.br
SUMMARY:"UMA VIDA QUE FAZ SENTIDO"- RETIRO JOVENS HIVE LIVE (JOVENS 18-29 ANOS)
DESCRIPTION:🔥 RET 2026 – Uma vida que faz sentido 🔥\nVocê já parou para pensar se está vivendo apenas existindo… ou se sua vida realmente tem propósito e significado?\nO RET 2026 será um tempo especial para sair da rotina\, se conectar com Deus\, fazer novas amizades e viver experiências que podem marcar sua vida para sempre. Serão dias de palavra\, louvor\, comunhão\, diversão e transformação espiritual.\nSe você é jovem e deseja viver algo mais profundo com Deus\, esse retiro é para você!\n📅 Datas: 12\, 13 e 14 de junho\n📍 Local: Sítio Vovó Lena – Muribeca\, Serra/ES\nNão fique de fora! Convide seus amigos e venha viver uma vida que faz sentido.\n⚡ Garanta sua vaga e prepare-se para dias inesquecíveis!\nValor 1 Lote – R$330\,00 / 2 Lote- R$370\,00 \nCLIQUE AQUI PARA FAZER A SUA INSCRIÇÃO
URL:https://iebv.com.br/agenda/retirojovens/
LOCATION:Espírito Santo
CATEGORIES:Eventos IEBV,Externo
ATTACH;FMTTYPE=image/jpeg:https://iebv.com.br/wp-content/uploads/2025/05/IMG-20260309-WA0158-1.jpg
END:VEVENT
END:VCALENDAR