BEGIN:VCALENDAR
VERSION:2.0
PRODID:-//IEBV - ECPv6.15.16//NONSGML v1.0//EN
CALSCALE:GREGORIAN
METHOD:PUBLISH
X-WR-CALNAME:IEBV
X-ORIGINAL-URL:https://iebv.com.br
X-WR-CALDESC:Eventos para IEBV
REFRESH-INTERVAL;VALUE=DURATION:PT1H
X-Robots-Tag:noindex
X-PUBLISHED-TTL:PT1H
BEGIN:VTIMEZONE
TZID:America/Sao_Paulo
BEGIN:STANDARD
TZOFFSETFROM:-0300
TZOFFSETTO:-0300
TZNAME:-03
DTSTART:20240101T000000
END:STANDARD
END:VTIMEZONE
BEGIN:VEVENT
DTSTART;TZID=America/Sao_Paulo:20250912T193000
DTEND;TZID=America/Sao_Paulo:20250912T193000
DTSTAMP:20260420T213208
CREATED:20250121T211458Z
LAST-MODIFIED:20250815T225622Z
UID:1896-1757705400-1757705400@iebv.com.br
SUMMARY:Mulher Virtuosa
DESCRIPTION: Inicio 12/09 às 14h30\n\nCRIADO ESPECIALMENTE PARA VOCÊ MULHER RECÉM CASADA\, QUE PRECISA DE ORIENTAÇÃO PARA INICIAR A SUA JORNADA A DOIS\, APRENDENDO O VALOR DA MULHER NO CASAMENTO\n  \nPrecisando dar um upgrade em sua vida emocional\, vida sentimental\, familiar e sua profissão? Vem com a gente nessa jornada!! ‎\n“Grandes coisas fez o SENHOR por nós\, e\, por isso\, estamos alegres.” (Salmo 126:3)\n \nCLIQUE AQUI E FAÇA A SUA INSCRIÇÃO
URL:https://iebv.com.br/agenda/mulhervirtuosa/
LOCATION:IEBV\, Av. Saturnino Rangel Mauro\, 725 - Jardim da Penha\, Vitória - ES\, Vitória\, Espírito Santo\, 29060-770\, Brasil
CATEGORIES:Cursos,Externo
ATTACH;FMTTYPE=image/jpeg:https://iebv.com.br/wp-content/uploads/2025/01/mulher-virtuosa.jpeg
END:VEVENT
END:VCALENDAR