BEGIN:VCALENDAR
VERSION:2.0
PRODID:-//IEBV - ECPv6.15.16//NONSGML v1.0//EN
CALSCALE:GREGORIAN
METHOD:PUBLISH
X-WR-CALNAME:IEBV
X-ORIGINAL-URL:https://iebv.com.br
X-WR-CALDESC:Eventos para IEBV
REFRESH-INTERVAL;VALUE=DURATION:PT1H
X-Robots-Tag:noindex
X-PUBLISHED-TTL:PT1H
BEGIN:VTIMEZONE
TZID:America/Sao_Paulo
BEGIN:STANDARD
TZOFFSETFROM:-0300
TZOFFSETTO:-0300
TZNAME:-03
DTSTART:20230101T000000
END:STANDARD
END:VTIMEZONE
BEGIN:VEVENT
DTSTART;TZID=America/Sao_Paulo:20240607T220000
DTEND;TZID=America/Sao_Paulo:20240607T220000
DTSTAMP:20260420T213605
CREATED:20240508T183309Z
LAST-MODIFIED:20240508T184222Z
UID:2597-1717797600-1717797600@iebv.com.br
SUMMARY:Vigília da Juventude
DESCRIPTION:Kit Vigília + Alimentação \nTema: De todo Coração \nData: 07 de junho \nHora: 22 horas
URL:https://iebv.com.br/agenda/vigilia-da-juventude/
LOCATION:IEBV\, Av. Saturnino Rangel Mauro\, 725 - Jardim da Penha\, Vitória - ES\, Vitória\, Espírito Santo\, 29060-770\, Brasil
CATEGORIES:Eventos IEBV
END:VEVENT
END:VCALENDAR